BEGIN:VCALENDAR
CALSCALE:GREGORIAN
PRODID:-//Condeon, vioma GmbH//iCal 2.0//EN
VERSION:2.0
BEGIN:VEVENT
UID:204246245769e7f4d8508bd0.07140623
DTSTAMP:20260421T220616Z
DTSTART:20260210T100000Z
DTEND:20260210T120000Z
SUMMARY:Wöchentlicher Hunde-Abenteuer-Walk
DESCRIPTION:Raus aus dem Alltag\, rein in die Natur: Unser wöchentlicher
  Hunde-Abenteuer-Walk ist das perfekte Urlaubserlebnis für alle Gäste 
 mit Hund\, die den Tegernsee aktiv und entspannt entdecken möchten.\nIn
  gemütlichem Tempo starten wir die neue Woche und gehen gemeinsam eine 
 leichte\, abwechslungsreiche Runde hinauf zum Brauhaus Brenner oder zum 
 Sonnenbichl. Mit wenig Höhenmetern (70-100m\, je nach Tour) und ausreic
 hend Zeit zum Schnuppern\, Erkunden und Genießen ist dieser Spaziergang
  für jedes Mensch-Hund-Team geeignet.\n\n\n\n\n\n\n\nWas Dich erwartet\
 n\n\nGeführter Hunde-Walk in kleiner\, entspannter Gruppe\n\n\nDauer ca
 . 2 Stunden\n\n\nLeichte Strecke mit wenig Höhenmetern\n\n\nWunderschö
 ne Natur & Ausblicke rund um den Sonnenbichl\n\n\nZeit für Austausch\, 
 kleine Pausen & gemeinsame Erlebnisse\n\n\n\n\n\nweitere Infos
LOCATION:Schnitzer's Dahoam
URL:https://www.schnitzers-dahoam.de/de/hotel/eventkalender/detail.date.3
 09-54797.2026-02-10.html
RRULE:FREQ=WEEKLY;UNTIL=20261019T220000Z
END:VEVENT
END:VCALENDAR
