BEGIN:VCALENDAR
CALSCALE:GREGORIAN
PRODID:-//Condeon, vioma GmbH//iCal 2.0//EN
VERSION:2.0
BEGIN:VEVENT
UID:102851050369e7f60f7f9965.35183277
DTSTAMP:20260421T221127Z
DTSTART:20260403T070000Z
DTEND:20260403T140000Z
SUMMARY:Zughunde-Workshop für Einsteiger am Tegernsee
DESCRIPTION:Schritt für Schritt erarbeiten wir uns die Grundlagen. Du er
 hältst wertvolle Tipps zur Ausrüstung und Lauftechnik. Außerdem bauen
  wir die wichtigsten Kommandos auf. Dieser Workshop bietet dir und deine
 r Fellnase eine großartige Möglichkeit\, sich aktiv zu betätigen und 
 gleichzeitig eure Mensch-Hund-Bindung zu stärken\n\n\n\n\n\n\n\nTheoret
 ische Einführung & Materialkunde\n\n\nAufbau der wichtigsten Kommandos\
 n\n\nVorstellung verschiedener Gefährten\n\n\nTrainingsvorbereitung und
  Planung\n\n\nErste Laufübungen & Techniktraining bei Interesse am Cani
 cross\n\n\nIndividuelles Feedback\n\n\nUmfangreiches Handout mit wertvol
 len Tipps und Tricks\n\n\n\n\n\nmehr Infos
LOCATION:Schnitzer's Dahoam
URL:https://www.schnitzers-dahoam.de/de/hotel/eventkalender/detail.date.3
 09-54825.2026-04-03.html
END:VEVENT
BEGIN:VEVENT
UID:136399305469e7f60f7ffaa3.61006370
DTSTAMP:20260421T221127Z
DTSTART:20261012T070000Z
DTEND:20261013T140000Z
SUMMARY:Zughunde-Workshop für Einsteiger am Tegernsee
DESCRIPTION:Schritt für Schritt erarbeiten wir uns die Grundlagen. Du er
 hältst wertvolle Tipps zur Ausrüstung und Lauftechnik. Außerdem bauen
  wir die wichtigsten Kommandos auf. Dieser Workshop bietet dir und deine
 r Fellnase eine großartige Möglichkeit\, sich aktiv zu betätigen und 
 gleichzeitig eure Mensch-Hund-Bindung zu stärken\n\n\n\n\n\n\n\nTheoret
 ische Einführung & Materialkunde\n\n\nAufbau der wichtigsten Kommandos\
 n\n\nVorstellung verschiedener Gefährten\n\n\nTrainingsvorbereitung und
  Planung\n\n\nErste Laufübungen & Techniktraining bei Interesse am Cani
 cross\n\n\nIndividuelles Feedback\n\n\nUmfangreiches Handout mit wertvol
 len Tipps und Tricks\n\n\n\n\n\nmehr Infos
LOCATION:Schnitzer's Dahoam
URL:https://www.schnitzers-dahoam.de/de/hotel/eventkalender/detail.date.3
 09-54825.2026-04-03.html
END:VEVENT
END:VCALENDAR
