BEGIN:VCALENDAR
CALSCALE:GREGORIAN
PRODID:-//Condeon, vioma GmbH//iCal 2.0//EN
VERSION:2.0
BEGIN:VEVENT
UID:191919629969e7f60f4e4b69.08450904
DTSTAMP:20260421T221127Z
DTSTART:20261114T090000Z
DTEND:20261114T160000Z
SUMMARY:Hundemesse Dahoam
DESCRIPTION:Die dritte Hundemesse mit über 20 Austellern im Schnitzers D
 ahoam\n\n\nNach dem großen Erfolg im Februar und November gehts weiter!
 \nFreut Euch auf eine informative Messe mit vielen verschiedenen Austell
 ern sowie ein spannendes Programm mit Seminaren und Vorträgen.\n\nFür 
 das menschliche Wohl sorgt unser Team mit leckeren Schmankerl und Geträ
 nken.\n\nEintritt 5\,00 € pro Person (der Erlös wird dem Tierschutz g
 espendet)\n\nWeitere Infos und Aussteller folgen...\n\nweitere Infos
LOCATION:Schnitzer's Dahoam
URL:https://www.schnitzers-dahoam.de/de/hotel/eventkalender/detail.date.3
 09-54929.2026-11-14.html
END:VEVENT
END:VCALENDAR
