BEGIN:VCALENDAR
CALSCALE:GREGORIAN
PRODID:-//Condeon, vioma GmbH//iCal 2.0//EN
VERSION:2.0
BEGIN:VEVENT
UID:156621171269e7f617a86278.63356344
DTSTAMP:20260421T221135Z
DTSTART:20260503T160000Z
DTEND:20260503T180000Z
SUMMARY:Bayrisches Schmankerlbuffet
DESCRIPTION:Unser bayrisches Buffet am Tegernsee\n\n\nJeden Sonntag erwar
 tet unsere Gäste in unserem Hotel am Tegernsee ein ganz besonderes kuli
 narisches Erlebnis im Rahmen der Vollpension: unser traditionelles bayri
 sches Buffet.\n\n\nIn unserer Showküche bereiten unsere Köche das Flei
 sch frisch vor den Augen der Gäste zu und schneiden es direkt für Sie 
 auf – ein Genuss\, der Qualität und Handwerk spürbar macht. Dazu ser
 vieren wir klassische Beilagen wie hausgemachte Knödel und feines Kraut
 \, die den authentischen Geschmack der Region unterstreichen.\n\n\nErgä
 nzt wird das Angebot durch ein abwechslungsreiches\, frisches Salatbuffe
 t sowie eine Auswahl an liebevoll zubereiteten Desserts.\n\n\nBesonderen
  Wert legen wir auf die Herkunft unserer Zutaten: Ein Großteil unserer 
 Produkte stammt aus der Region rund um den Tegernsee und steht für Fris
 che\, Nachhaltigkeit und höchste Qualität.\n\n\nGenießen Sie echte ba
 yerische Gastlichkeit in entspannter Atmosphäre – wir freuen uns dara
 uf\, Sie jeden Sonntag bei unserem Buffet begrüßen zu dürfen.\n\n\n
LOCATION:Schnitzer's Dahoam
URL:https://www.schnitzers-dahoam.de/de/hotel/eventkalender/detail.date.3
 09-55141.2026-05-03.html
RRULE:FREQ=WEEKLY;UNTIL=20261024T220000Z
END:VEVENT
END:VCALENDAR
