BEGIN:VCALENDAR
CALSCALE:GREGORIAN
PRODID:-//Condeon, vioma GmbH//iCal 2.0//EN
VERSION:2.0
BEGIN:VEVENT
UID:41812287769e7f505521ce7.60241140
DTSTAMP:20260421T220701Z
DTSTART:20260523T220000Z
DTEND:20260606T220000Z
SUMMARY:Natürlich! Kreuth
DESCRIPTION:Die Erlebniswochen für die ganze Familie in den Pfingstferi
 en vom 24.05. bis 07.06.2026\n\n\nIn den Pfingstferien gibt es wieder zw
 ei Wochen lang familienfreundliche Natur- und Erlebnisveranstaltungen. D
 ann dreht sich im Bergsteigerdorf Kreuth alles um Fauna und Flora\, Wald
 - und Almwirtschaft sowie um die Kreuther Produzenten\, die sich bei ihr
 er Arbeit über die Schulter schauen lassen. Die herrliche Natur gilt es
  mit allen Sinnen zu entdecken – und wie im Bergsteigerdorf „Nachhal
 tigkeit“ gelebt wird.\n\n\nDen Auftakt bildet ein Familienaktionstag. 
 Das komplette Programm von „Natürlich! Kreuth“ reicht von geführte
 n Wanderungen und Pferdekutschfahrten über Alpaka-Yoga bis hin zu Besic
 htigungen und musikalischen Almerlebnissen. Speziell für die Kinder gib
 t es einen Aktionstag zum Mountainbiken und eine Naturerlebniswanderung.
 \n\nweitere Infos
LOCATION:Kreuth und Umgebung
URL:https://www.tegernsee.com/natuerlich-kreuth
END:VEVENT
END:VCALENDAR
