BEGIN:VCALENDAR
CALSCALE:GREGORIAN
PRODID:-//Condeon, vioma GmbH//iCal 2.0//EN
VERSION:2.0
BEGIN:VEVENT
UID:175707653669e7f5e0f3f938.89823813
DTSTAMP:20260421T221040Z
DTSTART:20260529T170000Z
DTEND:20260529T215959Z
SUMMARY:#wiesseerocks - Raffaele Quarta
DESCRIPTION:Italienische Folklore\, Pop & Rock. Ein mitreißender Mix aus
  Italo Pop\, Folk\, Latin-Rock und Blues – das ist die musikalische Ha
 ndschrift von Raffaele Quarta und seiner Band. Mit Leidenschaft\, Spielf
 reude und einer starken Bühnenpräsenz begeistert die Formation ihr Pub
 likum – ob mit eigenen Songs oder bekannten Hits zum Mitsingen. Virtuo
 se Soli\, tanzbare Rhythmen und echtes Live Feeling machen jedes Konzert
  zu einem besonderen Erlebnis: Die Raffaele Quarta Band bringt italienis
 ches Lebensgefühl auf die Bühne.\n\n\nBei unsicherer Wetterlage wird d
 ie Entscheidung zur Durchführung des Konzerts bis 12:00 Uhr am Veransta
 ltungstag getroffen.
LOCATION:Bad Wiessee - Seepromenade
URL:https://www.schnitzers-dahoam.de/de/hotel/eventkalender/detail.date.3
 09-55235.2026-05-29.html
END:VEVENT
END:VCALENDAR
