BEGIN:VCALENDAR
CALSCALE:GREGORIAN
PRODID:-//Condeon, vioma GmbH//iCal 2.0//EN
VERSION:2.0
BEGIN:VEVENT
UID:47676481969e7f43ddeb051.60494983
DTSTAMP:20260421T220341Z
DTSTART:20260612T170000Z
DTEND:20260612T215959Z
SUMMARY:#wiesseerocks - Mayham
DESCRIPTION:Mayhem Inc. – das sind vier Musiker\, die sich mit Leib und
  Seele dem Classic- und Hardrock verschrieben haben. Mit energiegeladene
 n Live-Performances\, einem breiten Repertoire und einem unverwechselbar
 en Sound bringen sie handgemachten Rock auf die Bühne – roh\, direkt\
 , ohne Schnickschnack. Keine Samples\, kein Playback – bei Mayhem Inc.
  geht’s immer voll auf die Zwölf.\nOb Led Zeppelin\, AC/DC\, Guns N
 ’ Roses oder andere Rocklegenden – Mayhem Inc. liefert die größten
  Rock-Hymnen mit einer ganz eigenen Handschrift. Dabei versteht es die B
 and\, sich nicht einfach an Vorlagen zu halten\, sondern Songs neu zu in
 terpretieren und ihnen frischen Drive zu verleihen. Authentisch. Kraftvo
 ll. Echt.\n\n\nVom lokalen Geheimtipp zur gefragten Liveband\nWas mit Gi
 gs in der Heimatregion begann\, ist längst auf größerer Bühne angeko
 mmen:\nMayhem Inc. ist heute national wie international gefragt – und 
 das zurecht. Die Band begeistert nicht nur bei Club- und Stadtfesten\, s
 ondern auch auf großen Festivals und renommierten Event-Locations wie z
 .B. dieses Jahr beim USCar-Treffen – Motorworld München\, der Europea
 n Bike Week – Faaker See (AUT)\, Bluesiana Rockcafé – Velden (AUT) 
 oder beim Harley-Treffen – Pullman City Eging am See.\n\n\nLive erlebe
 n – Rock spüren\n\n\nOb Clubatmosphäre oder große Bühne – Mayhem
  Inc. ist mehr als eine Coverband. Es ist Rock pur\, Leidenschaft für M
 usik und der Wille\, jedes Publikum mitzureißen.\nSei dabei – wir seh
 en uns vor der Bühne!\n\n\nBei unsicherer Wetterlage wird die Entscheid
 ung zur Durchführung des Konzerts bis 12:00 Uhr am Veranstaltungstag ge
 troffen.
LOCATION:Bad Wiessee - Seepromenade
URL:https://www.schnitzers-dahoam.de/de/hotel/eventkalender/detail.date.3
 09-55237.2026-06-12.html
END:VEVENT
END:VCALENDAR
