BEGIN:VCALENDAR
CALSCALE:GREGORIAN
PRODID:-//Condeon, vioma GmbH//iCal 2.0//EN
VERSION:2.0
BEGIN:VEVENT
UID:121391533969e7f43e069ad6.71865024
DTSTAMP:20260421T220342Z
DTSTART:20260710T170000Z
DTEND:20260710T215959Z
SUMMARY:#wiesseerocks - Les Beignets
DESCRIPTION:Funk als Herz\, Soul im Blut\, Jazz und Reggae als Würze –
  das ist Les Beignets. Mit fettem Bläsersatz\, groovigem Bass\, mitrei
 ßendem Gesang und jeder Menge Energie verwandeln sie jede Bühne in ein
 e Tanzfläche. Perfekt für alle\, die Funk lieben und Lust auf genreüb
 ergreifende Grooves haben.\n\n\nBei unsicherer Wetterlage wird die Entsc
 heidung zur Durchführung des Konzerts bis 12:00 Uhr am Veranstaltungsta
 g getroffen.
LOCATION:Bad Wiessee - Seepromenade
URL:https://www.schnitzers-dahoam.de/de/hotel/eventkalender/detail.date.3
 09-55239.2026-07-10.html
END:VEVENT
END:VCALENDAR
