BEGIN:VCALENDAR
CALSCALE:GREGORIAN
PRODID:-//Condeon, vioma GmbH//iCal 2.0//EN
VERSION:2.0
BEGIN:VEVENT
UID:90619135669e7f5e13f4556.56855138
DTSTAMP:20260421T221041Z
DTSTART:20260717T170000Z
DTEND:20260717T215959Z
SUMMARY:#wiesseerocks - Groundlift
DESCRIPTION:Ob mitreißende Rock-Klassiker\, gefühlvolle Balladen oder a
 ktuelle Chart-Hits – die GROUNDLIFT BAND bringt die besten Songs der l
 etzten 70 Jahre auf die Bühne! Unsere professionellen Musiker begeister
 n mit einem breiten Repertoire\, das weit über die üblichen Standards 
 hinausgeht. Von den anspruchsvollen Sounds von Queen und Toto bis hin zu
  den größten Tanz- und Partykrachern – wir liefern den perfekten Sou
 ndtrack für unvergessliche Events. Live. Leidenschaftlich. Unvergesslic
 h.\n\n\nUnsere Band:\n\n\nMarianne Herzinger (Vocals\, Moderation) Bekan
 nt als Sängerin verschiedener Bands auf dem Oktoberfest München und au
 f zahlreichen internationalen Oktoberfesten International (Afrika\, Bras
 ilien uvm.).\n\n\nHarry Reischmann (Drums\, Vocals)= Bekannt durch zahlr
 eiche internationale Touren als Drummer\, darunter für Sarah Brightman\
 , Gregorian\, Bonfire\, Rock the Big Band\, und auf YouTube bekannt mit 
 seiner lustigen Feuer-Drum Show mit rund 10 Millionen Aufrufen.\n\n\nJek
 ko Stjepanovic (Bass\, Vocals) Bekannt durch seine zahlreichen internati
 onalen Touren als Bassist und Musical Director für den Superstar des Ba
 lkans Dino Merlin und in Deutschland als Bassist von Relax.\n\n\nRonnie 
 Aguiling (Guitar\, Vocals) Bekannt durch seine langjährige Tätigkeit a
 ls Gitarrist und Sänger in zahlreichen Party-\, Tanz- und Gala Bands.\n
 \n\nDaniel Betz (Keyboards\, Vocals) Bekannt durch seine langjährige T
 ätigkeit als Keyboarder und Pianist in zahlreichen Studioproduktionen\,
  Partybands\, Duos und Trios\, u.a. die Antenne Bayern Band.\n\n\nBei un
 sicherer Wetterlage wird die Entscheidung zur Durchführung des Konzerts
  bis 12:00 Uhr am Veranstaltungstag getroffen.
LOCATION:Bad Wiessee - Seepromenade
URL:https://www.schnitzers-dahoam.de/de/hotel/eventkalender/detail.date.3
 09-55241.2026-07-17.html
END:VEVENT
END:VCALENDAR
