BEGIN:VCALENDAR
CALSCALE:GREGORIAN
PRODID:-//Condeon, vioma GmbH//iCal 2.0//EN
VERSION:2.0
BEGIN:VEVENT
UID:757515569e7f4d8880866.82209777
DTSTAMP:20260421T220616Z
DTSTART:20260807T170000Z
DTEND:20260807T215959Z
SUMMARY:#wiesseerocks - Cheerio Joe
DESCRIPTION:Augenschließen\, Tanzen\, Träumen. Cheerio Joe aus Fürsten
 feldbruck nimmt euch mit auf ihre Reise. Durch musikalisches „Auf-die-
 Pauke-hauen“\, aber auch im Ruhigen wird daran erinnert\, dass Folk un
 d Rock alle Lebensbereiche abdecken. Steigt ein\, nehmt Teil an ihrem Ro
 adtrip und genießt zusammen mit ihnen den Spaß\, den Musik verbreiten 
 kann.\n\n\nEin normaler Tag in Sebastian Pittrichs Leben beginnt und end
 et mit Musik. Der Gitarren-Autodidakt und Singer-/Songwriter hat seine g
 rößte Leidenschaft Wirklichkeit werden lassen: Menschen mit Musik glü
 cklich zu machen.\n\n\n„Tina Fischer“ sollte ein musikalisches Marke
 nzeichen sein. Seit 2018 bildet sie das Pendant sowohl durch ihre gesang
 liche Professionalität\, als auch durch Ihre Qualitäten als Frontfrau 
 mit dem gewissen weiblichen Touch zu dem Männerhaufen.\n\n\nMax! Spiele
 r. Dass das „imilian“ in seinem Namen fehlt\, spiegelt sein musikali
 sches Wesen perfekt wider. Es wird gespielt\, was der Musik von Cheerio 
 Joe dienlich ist. Nicht mehr\, aber vor allem nicht weniger. Triplets au
 f der Kick? „Schmocki“ ist auf der Bühne.\n\n\nLukas Liebl ist nebe
 n Pittrich Gründungsmitglied von Cheerio Joe. Das Bildnis: „Ein Fels 
 in der Brandung“ entfaltet bei ihm seinen gesamten Geltungsbereich. Se
 ine Kompositionen\, Texte und sein solides Bassspiel sind Basis der Band
 .\n\n\nBei unsicherer Wetterlage wird die Entscheidung zur Durchführung
  des Konzerts bis 12:00 Uhr am Veranstaltungstag getroffen.
LOCATION:Bad Wiessee - Seepromenade
URL:https://www.schnitzers-dahoam.de/de/hotel/eventkalender/detail.date.3
 09-55243.2026-08-07.html
END:VEVENT
END:VCALENDAR
