BEGIN:VCALENDAR
CALSCALE:GREGORIAN
PRODID:-//Condeon, vioma GmbH//iCal 2.0//EN
VERSION:2.0
BEGIN:VEVENT
UID:105091377569e7f53ca01197.96837164
DTSTAMP:20260421T220756Z
DTSTART:20260813T170000Z
DTEND:20260813T215959Z
SUMMARY:#wiesseerocks - The Heimatdamisch
DESCRIPTION:AC/DC und Guns n’ Roses im Oberkrainer-Sound? Rock- und Pop
 -Hits mit Tuba und Akkordeon? Wie gut so etwas funktionieren kann\, demo
 nstriert Florian Rein mit seiner Allstar-Combo THE HEIMATDAMISCH. Seine 
 Acht-Mann-Kapelle in klassischer Besetzung mit Tuba\, Akkordeon\, Bläse
 rn\, Schlagzeug und Gesang zieht aktuellen Chart-Hits und ausgewählten 
 Rock- und Pop-Klassikern die Lederhosn an. THE HEIMATDAMISCH hat durch v
 erschiedene Fernsehauftritte\, vor allem aber durch ihre Youtube Videos 
 große Popularität erlangt. Das Video zu ihrer Guns n’ Roses-Cover-Ve
 rsion „Sweet Child o’ Mine“ hat bislang über 11 Millionen Clicks 
 auf Youtube erreicht! Ihr 2017 auf Facebook eingestelltes Video „Highw
 ay to Hell“ erreichte innerhalb weniger Monate über 36 Millionen Face
 book-Follower in ganz Europa und den USA! Verschiedene US-Radiosender un
 d US- Musik-Magazine berichteten über die Band. THE HEIMATDAMISCH hat k
 napp 90.000 Facebook-Follower und über 80.000 Youtube-Abonnenten. In de
 n vergangenen Jahren war THE HEIMATDAMISCH auf allen großen Festival-B
 ühnen in Deutschland und Europa vertreten\, u.a. Woodstock der Blasmusi
 k (Hauptbühne Samstag Abend vor 30.000 Besucher)\, Paaspop-Festival Nie
 derlande (größtes Rockfestival in Holland\, 40.000 Besucher)\, Fonnefe
 esten-Festival Belgien (Headliner vor 10.000 Zuschauern)\, Bernard-Fest 
 Tschechien (letzte Band des Abends\, Hauptbühne\, Rockfestival mit 8.00
 0 Besuchern)\, Brasswiesn\, Voixjam\, WorldBlasmusicDays etc. Festivals 
 und Konzerte allein im Jahr 2023 in Tschechien\, Frankreich\, Holland\, 
 Kroatien\, Österreich\, Schweiz\, Norwegen. Die Band war außerdem 2022
  auf Tour in Großbritannien und spielte dort fünf ausverkaufte Club-Sh
 ows in Glasgow\, London\, Bermingham\, Leeds und Barnsley. Auf dieser To
 ur wurde das aktuelle Album „Live in London“ mitgeschnitten\, das im
  Mai 2023 erschienen ist. Für 2025 ist die Veröffentlichung eines neue
 n Studio-Albums geplant\, zudem verschiedene Konzerte im In- und Ausland
 \, für 2026 liegen konkrete Anfragen für Tourneen in Brasilien\, USA u
 nd Großbritannien vor.\n\n\nBei unsicherer Wetterlage wird die Entschei
 dung zur Durchführung des Konzerts bis 12:00 Uhr am Veranstaltungstag g
 etroffen.
LOCATION:Bad Wiessee - Seepromenade
URL:https://www.schnitzers-dahoam.de/de/hotel/eventkalender/detail.date.3
 09-55245.2026-08-13.html
END:VEVENT
END:VCALENDAR
