BEGIN:VCALENDAR
CALSCALE:GREGORIAN
PRODID:-//Condeon, vioma GmbH//iCal 2.0//EN
VERSION:2.0
BEGIN:VEVENT
UID:133028443169e7f4006782a6.65562734
DTSTAMP:20260421T220240Z
DTSTART:20260821T170000Z
DTEND:20260821T215959Z
SUMMARY:#wiesseerocks - BaamBrass
DESCRIPTION:BaamBrass – das steht für fetzige Mundart-Songs\, abwechsl
 ungsreichen Power-Sound und vor allem für offene\, ehrliche & expressiv
 e Freude an der Musik. Mit Tuba\, Trompete\, Schlagzeug\, E-Gitarre\, Zi
 ach & Synthesizer touren die fünf jungen Multiinstrumentalisten aus dem
  Chiemgau (Südbayern) seit 2017 über regionale und überregionale Büh
 nen. Ihr Publikum darf sich dabei jedes Mal wieder am vielschichtigen So
 und der Gruppe erfreuen. Egal ob Rock\, Pop\, Reggae\, Ska oder Tecno 
 – kein Genre ist vor BaamBrass sicher. Im malerischen Mundart-Stil bri
 ngen die Burschen im Alter zwischen 21 und 25 Jahren ihre eigenen\, erfr
 ischenden Ideen aufs Papier und unter die Leute. Mit euphorischer Energi
 e erfinden sich BaamBrass bei jedem ihrer kunstvollen Konzerte neu und r
 eißen die Zuhörerschaft nicht zuletzt durch ihre authentische Passion 
 zu musizieren mit. Die aktuelle Tour „Euphorie“ spiegelt ihre Begeis
 terung für Musik wunderbar wider. Im gleichnamigen Album finden sowohl 
 eingängige Texte wie beispielsweise in „Häxla“\, als auch magische
  Melodien wie in „So wos scheens“ ihren Platz. Auch vor Experimenten
  schreckt BaamBrass nicht zurück\, und lässt gerne den ein oder andere
 n Song in elektronischen Klängen remixen. So spielt die Tecno-Version v
 om bekannten „Huckbaule“ seit 2021 auf sämtlichen Festen und wurde 
 bereits über drei Millionen Mal gestreamt. Wer steckt nun hinter den mo
 dernen\, bayrischen Burschen? Pius Bauer (Gesang\, Trompete) und Stefan 
 Fenninger (Schlagzeug) kamen im Jahr 2014 auf die schicksalshafte Idee\,
  das Singer-Songwriter Duo „Bauer & Fenninger“ zu gründen. Doch sch
 on bald verlangte ihr Sound nach weiteren Instrumenten. So machte 2015 S
 ebastian „TubaWast“ Kiefersbeck (Tuba) das Trio voll. Nicht viel sp
 äter ergänzte Franz Mitterreiter (Posaune\, Akkordeon) die Gruppe\, un
 d zwei Jahre später machte Thomas Fuhrmann (E-Gitarre) den Haufen perfe
 kt. So tourten die Fünf für mehrere Sommer lang gemeinsam durch Bayern
  und Österreich\, bis im Jahr 2022 Franz Mitterreiter von Sebastian Wal
 lner (Basstrompete\, Synthesizer) abgelöst wurde. Seit diesem Jahr brin
 gt die talentierte Truppe frische Farbe und Energie in die Line-Ups der 
 Events. Weitere Infos zu BaamBrass findet Ihr unter: https://www.baambr
 ass.com/\n\n\nBei unsicherer Wetterlage wird die Entscheidung zur Durchf
 ührung des Konzerts bis 12:00 Uhr am Veranstaltungstag getroffen.
LOCATION:Bad Wiessee - Seepromenade
URL:https://www.schnitzers-dahoam.de/de/hotel/eventkalender/detail.date.3
 09-55247.2026-08-21.html
END:VEVENT
END:VCALENDAR
