BEGIN:VCALENDAR
CALSCALE:GREGORIAN
PRODID:-//Condeon, vioma GmbH//iCal 2.0//EN
VERSION:2.0
BEGIN:VEVENT
UID:189535911369e7f5d7576933.12813277
DTSTAMP:20260421T221031Z
DTSTART:20260904T170000Z
DTEND:20260904T215959Z
SUMMARY:#wiesseerocks - Flat Out
DESCRIPTION:Flat Out – Live. Echt. Unvergesslich. \nFür Events\, die 
 Eindruck machen – ohne Kompromiss. \n\n\nSeit 2010 auf den Münchner
  Oktoberfest.\n\n\nVier charismatische Musiker\, bekannt für mehrstimm
 igen Gesang\, eine energetische Live-Show und eine enorme musikalisch
 e Bandbreite\, machen jedes Event zum Highlight.\n\n\nDas Repertoire? E
 in Mix aus legendären Oldies der 50er/60er\, Rock’n’Roll\, Fox\, Bo
 ogie Woogie bis zu aktuellen Partyhits.\n\n\nBei unsicherer Wetterlage w
 ird die Entscheidung zur Durchführung des Konzerts bis 12:00 Uhr am Ver
 anstaltungstag getroffen.
LOCATION:Bad Wiessee - Seepromenade
URL:https://www.schnitzers-dahoam.de/de/hotel/eventkalender/detail.date.3
 09-55249.2026-09-04.html
END:VEVENT
END:VCALENDAR
