BEGIN:VCALENDAR
CALSCALE:GREGORIAN
PRODID:-//Condeon, vioma GmbH//iCal 2.0//EN
VERSION:2.0
BEGIN:VEVENT
UID:23449593869e7f4b76f03a2.50155588
DTSTAMP:20260421T220543Z
DTSTART:20260721T130000Z
DTEND:20260721T203000Z
SUMMARY:Sommernachtszauber - Nachtmarkt
DESCRIPTION:Vor traumhafter Kulisse an der Seepromenade des Tegernsees fi
 ndet unser Nachtmarkt unter dem Motto Kunst & Musik in Bad Wiessee statt
 . Für einheimische und auswärtige Besucher gilt der spannende und viel
 seitige Markt mit über 80 Ständen als etablierter Anziehungspunkt.\nDa
 s Bühnenprogramm wird wieder bunt\, fröhlich und anspruchsvoll sein.\n
 Auch kulinarisch ist wieder etwas geboten: Im großen Biergarten direkt 
 am See\, können Sie Spezialitäten von Süßes bis Deftiges für den gr
 oßen oder kleinen Appetit\, von alkoholfreien Getränken\, über bayeri
 sches Bier vom Fass bis hin zu erlesenen Weinen und spritzigen Cocktails
  genießen.
LOCATION:Bad Wiessee - Seepromenade
URL:https://www.schnitzers-dahoam.de/de/hotel/eventkalender/detail.date.3
 09-55251.2026-07-21.html
RRULE:FREQ=DAILY;UNTIL=20260725T220000Z
END:VEVENT
END:VCALENDAR
