BEGIN:VCALENDAR
CALSCALE:GREGORIAN
PRODID:-//Condeon, vioma GmbH//iCal 2.0//EN
VERSION:2.0
BEGIN:VEVENT
UID:171320699969e7f4009bc0a1.18028418
DTSTAMP:20260421T220240Z
DTSTART:20260830T080000Z
DTEND:20260830T170000Z
SUMMARY:Rosstag Rottach-Egern
DESCRIPTION:d´Fuhrleut kemman z’am\n\n\nVor über 50 Jahren lud der Pf
 erdeliebhaber Thomas Böck († 2007) erstmals unter dem Motto „d´Fuh
 rleut kemman z’am“ zu diesem Fest ein.\n\n\nTraditionell am letzten 
 Sonntag im August stehen in Rottach-Egern die Rösser im Mittelpunkt des
  Geschehens.\n\n\nTausende von Zuschauern säumen den Weg\, wenn über 
 200 Pferde mit restaurierten\, alten Wägen\, Kutschen\, Landauern und C
 haisen in einem fünf Kilometer langen Zug zum Festplatz bis zum „Mus
 eum am Gsotthaberhof“ ziehen.\n\n\nAlthergebracht empfangen Mensch und
  Tier den Segen der Geistlichkeit und zeigen sich den wartenden Gäste
 n am Straßenrand.\n\n\nBlaskapellen\, Spielmannszüge und Trachtengrupp
 en begleiten und unterstützen sie dabei tatkräftig.\n\n\nweitere Info
 s
LOCATION:Festplatz Gsotthaberhof (Rottach-Egern)
URL:https://www.schnitzers-dahoam.de/de/hotel/eventkalender/detail.date.3
 09-55253.2026-08-30.html
END:VEVENT
END:VCALENDAR
