BEGIN:VCALENDAR
CALSCALE:GREGORIAN
PRODID:-//Condeon, vioma GmbH//iCal 2.0//EN
VERSION:2.0
BEGIN:VEVENT
UID:53430239669e7f504545ff9.93808770
DTSTAMP:20260421T220700Z
DTSTART:20261013T220000Z
DTEND:20261017T220000Z
SUMMARY:23. Internationales Bergfilm-Festival
DESCRIPTION:Großes Kino im Herbst in Tegernsee\n\n\nZum 23. Mal in Tege
 rnsee: Packende Geschichten\, mitreißende Bilder\, authentische Typen\,
  spannender Wettbewerb - Rund 100 Filme in 5 Vorführsälen zum Thema B
 erge. Klettern\, Natur\, Tiere\, Sport - vielfältig wie die Berge so au
 ch die Themen.\n\n\nPreiskategorien:\n\n\nGroßer Preis der Stadt Tegern
 see | Naturraum Berg | Erlebnisraum Berg | Lebensraum Berg | Zuschaue
 rpreis\n\n\nHaben Sie schon mal einen Bergfilm aus Kasachstan gesehen? O
 der aus Taiwan? Wie mag sich ein Filmteam aus Ägypten wohl dem Thema 
 „Berg“ annähern? Rund 200 Filme werden eingereicht\, das bedeutet r
 und 200 verschiedene Blickwinkel\, Geschichten\, Herangehensweisen. Eind
 eutig fasziniert das Thema Berge Filmemacher auf der ganzen Welt\, so de
 r neue Festival-Direktor Tom Dauer.\n\n\nDie Auswahl von rund 100 Filmen
  wird das ganze Spektrum des modernen Bergfilms umfassen: Fesselnde Doku
 mentationen über alpinistische Spitzenleistungen und spannende Reportag
 en werden das Publikum ebenso begeistern wie berührende Porträts von 
 – und über – Bergmenschen.\n„Ich bin der Ansicht\, dass ein Film-
 Festival immer eine Bühne für die außergewöhnlichen Filme bereithalt
 en muss\, die den Zuschauern neue Perspektiven zeigen und Türen öffnen
 “\, betont Michael Pause.\n\n\nInfo: Das Programm liegt voraussichtli
 ch ab Mitte August vor. Eintrittskarten gibt es ab Anfang/Mitte Septembe
 r an allen Vorverkaufsstellen. Alles rund um das Festival erfahren Sie i
 mmer aktuell unter www.bergfilm-tegernsee.de
LOCATION:diverse Orte in Tegernsee
URL:https://www.schnitzers-dahoam.de/de/hotel/eventkalender/detail.date.3
 09-55255.2026-10-14.html
END:VEVENT
END:VCALENDAR
