BEGIN:VCALENDAR
CALSCALE:GREGORIAN
PRODID:-//Condeon, vioma GmbH//iCal 2.0//EN
VERSION:2.0
BEGIN:VEVENT
UID:187805451969e7f53c4453d9.05239969
DTSTAMP:20260421T220756Z
DTSTART:20261128T130000Z
DTEND:20261129T180000Z
SUMMARY:Adventsmärkte am Tegernsee
DESCRIPTION:Romantisch spiegeln sich die Lichter der drei Märkte im Tege
 rnsee\, während Sie mit dem Pendelschiff oder Bus von Markt zu Markt fa
 hren. Beim Seeadvent Bad Wiessee\, dem Rottacher Advent und dem Weihnach
 tlichen Schlossmarkt Tegernsee gibt es Schmankerl der heimischen Gastron
 omen\, hochwertiges regionales Kunsthandwerk und ein stimmungsvolles\, a
 lpenländisches Musikprogramm. Romantische Feuerstellen laden zum Aufwä
 rmen und Verweilen ein.\n\n\n\n\nTermine 2026:\n\n\n\n\n\n28.11./29.11.
  von 14 bis 19 Uhr\n\n\n05.12./06.12. von 14 bis 19 Uhr\n\n\n12.12./13
 .12. von 14 bis 19 Uhr\n\n\n19.12./20.12. von 14 bis 19 Uhr\n\n\n
LOCATION:Schnitzer's Dahoam
URL:https://www.schnitzers-dahoam.de/de/hotel/eventkalender/detail.date.3
 09-55257.2026-11-28.html
RRULE:FREQ=WEEKLY;UNTIL=20261219T230000Z
END:VEVENT
END:VCALENDAR
