BEGIN:VCALENDAR
CALSCALE:GREGORIAN
PRODID:-//Condeon, vioma GmbH//iCal 2.0//EN
VERSION:2.0
BEGIN:VEVENT
UID:78924463269e7f617588ab6.39945407
DTSTAMP:20260421T221135Z
DTSTART:20261127T100000Z
DTEND:20261127T180000Z
SUMMARY:Tölzer Christkindlmarkt
DESCRIPTION:Verbringen Sie mit Familie und Freunden einen unvergesslichen
  Tag auf dem Tölzer Christkindlmarkt\, einem der schönsten in Süddeut
 schland. Schmunzelnd erzählt man sich\, wenn das Christkind einkaufen w
 ürde\, dann hier.\n\n\nDie rund 40 liebevoll dekorierten Holzhütten ö
 ffnen dieses Jahr am 27. November. Dann wird die Marktstraße bis zum 24
 . Dezember zu einem funkelnden Festsaal voller Lichterglanz und verführ
 erischen Düften\, die die Vorfreude auf das Weihnachtsfest noch steiger
 n. Allerhand schöne Dinge finden sich an den Ständen\, von Holzschnitz
 ereien und glänzendem Schmuck bis zu handgezogenen Kerzen und gestrickt
 en oder gefilzten Textilien. Und natürlich kommen auch die kulinarische
 n Leckereien nicht zu kurz! Bratäpfel\, Lebkuchen und gebrannte Mandeln
  und für die\, die es lieber deftiger mögen\, locken Bratwurst\, Weihn
 achtsente und vieles mehr. Da bietet es sich doch geradezu an\, sich in 
 gemütlicher Runde das Warten auf das Weihnachtsfest zu verkürzen. Beim
  Geschenkebummel an den Ständen oder den Geschäften der Innenstadt fin
 det dann auch garantiert jeder die kleinen und großen Präsente für se
 ine Lieben.\n\n\nFür die kleinen Besucher des Christkindlmarktes dreht 
 sich vor dem Brunnen das Karussell\, an den Wochenenden bietet das Stadt
 museum ein abwechslungsreiches Kinderprogramm und der Markt lädt am „
 Familienmittwoch“ mit Vergünstigungen an Ständen und regelmäßigen 
 Kutschfahrten ein. Senioren können sich montags auf besondere Aktionen 
 an den Hütten freuen.\n\n\nDas Musikprogramm auf der Bühne am großen 
 Christbaum mit festlichen Liedern und Weisen\, dargeboten von Sänger- u
 nd Musikgruppen aus der Region\, ist für viele Besucher eine liebgewonn
 ene Tradition. An den Wochenenden lockt so manche Attraktion\, wie der B
 esuch des Nikolaus oder der Tölzer Krampuslauf.
LOCATION:Bad Tölz - Marktstraße
URL:https://www.schnitzers-dahoam.de/de/hotel/eventkalender/detail.date.3
 09-55259.2026-11-27.html
RRULE:FREQ=DAILY;UNTIL=20261223T230000Z
END:VEVENT
END:VCALENDAR
