BEGIN:VCALENDAR
CALSCALE:GREGORIAN
PRODID:-//Condeon, vioma GmbH//iCal 2.0//EN
VERSION:2.0
BEGIN:VEVENT
UID:168559405069e7f5d6d76e55.19685614
DTSTAMP:20260421T221030Z
DTSTART:20261127T093000Z
DTEND:20261127T190000Z
SUMMARY:Rosenheimer Christkindlmarkt
DESCRIPTION:Inmitten der Rosenheimer Fußgängerzone lädt der traditi
 onelle Christkindlmarkt in Rosenheim zur voralpenländischen Weihnac
 htsstimmung im Herzen der Stadt ein. Der Rosenheimer Christkindlmarkt ö
 ffnet traditionell am Freitag vor dem ersten Advent. Die feierliche Er
 öffnung beginnt mit dem traditionellen Kindermärchenzug\, der vom Sali
 ngarten bis zur prachtvoll geschmückten Bühne am Max-Josefs-Platz füh
 rt. \n\n\n\n\n\nRosenheimer Christkindlmarkt\n\n\nDie stimmungsvolle Be
 leuchtung\, die liebevoll geschmückten Verkaufsstände\, die märchen
 haften beweglichen Dachfiguren und nicht zuletzt die imposante Bühne
  mit abwechslungsreichen Programmpunkten laden zum gemütlichen und er
 eignisreichen Bummel über den Christkindlmarkt in Rosenheims ein.\n\n\n
 Egal ob Sie kunstvoll gestaltete Christbaumkugeln\, traditionelle Schnit
 zkunst-Produkte oder aber ausgefallene Leuchtsterne und kunsthandwerklic
 he Erzeugnisse suchen - die besten Geschenkideen fürs Christkind finden
  sich hier garantiert. Schlendern Sie vorbei an den duftenden Hütten 
 mit Schmankerln wie heißen Maroni\, Flammbrot oder Suppen-Spezialit
 äten. Und wenn es Ihnen auf dem Weg zu kalt wird\, wärmen fruchtiger 
 Glühwein\, Eierpunsch oder Feuerzangenbowle ganz schnell wieder auf
 .
LOCATION:Rosenheim- Innenstadt - Max-Josefs-Platz
URL:https://www.schnitzers-dahoam.de/de/hotel/eventkalender/detail.date.3
 09-55261.2026-11-27.html
RRULE:FREQ=DAILY;UNTIL=20261223T230000Z
END:VEVENT
END:VCALENDAR
