BEGIN:VCALENDAR
CALSCALE:GREGORIAN
PRODID:-//Condeon, vioma GmbH//iCal 2.0//EN
VERSION:2.0
BEGIN:VEVENT
UID:42645224369e7f4b66c80c2.10125316
DTSTAMP:20260421T220542Z
DTSTART:20261205T100000Z
DTEND:20261205T180000Z
SUMMARY:Wasmeiers Weihnachtsmarkt
DESCRIPTION:Der historische Weihnachtsmarkt im Markus Wasmeier Freilichtm
 useum gehört mittlerweile zu den schönsten Christkindlmärkten in Ober
 bayern.\nTauchen Sie an zwei Wochenenden (5.-6. Dezember & 12.-13. Deze
 mber 2026) in den Winterzauber des weihnachtlich geschmückten Dorfes e
 in und erleben Sie diese ganz besondere Atmosphäre in der Adventszeit.\
 nTraditionelle Handwerker und Aussteller zeigen ihr Können und das Muse
 umswirtshaus lädt zum Verweilen ein. Auch im weitläufigen Aussenbereic
 h werden Getränke\, Speisen und winterliche Schmankerl angeboten.\n\n\n
 Führung\nErleben Sie das altbayrische Dorf mit allen Sinnen und erfahre
 n Sie bei unserer Führung „Weihnachtsgschichtn“ vieles über die 
 Adventszeit\, die Bräuche und Traditionen. Ein ganz besonderes Erlebnis
  in der Weihnachtszeit für Groß & Klein.\n\n\nBitte reservieren Sie re
 chtzeitig für einen Platz im Wirtshaus oder für unsere Weihnachtsführ
 ung.\n\n\nEintrittspreis pro Person: 6\,00 Euro – Kinder und Jugendlic
 he bis 17 Jahre haben freien Eintritt.\n\n\nÖffnungszeiten Markt:\nSams
 tag und Sonntag von 11 Uhr bis 19 Uhr.\n\n\nÖffnungszeiten Wirtshaus:\n
 Samstag und Sonntag von 11 Uhr bis 22 Uhr.\nBitte reservieren Sie frühz
 eitig!\n\n\nOffene Führung „Weihnachtsgschichtn“:\n11:30 Uhr / 13:0
 0 Uhr / 14:30 Uhr / 16:00 Uhr / 17:30 Uhr\nKeine Garantie auf freie Plä
 tze – Keine Vorreservierung möglich / Ticketverkauf an der Kasse / Tr
 effpunkt am Maibaum\nWenn Sie eine exklusive Gruppen-Führung buchen mö
 chten\, bitten wir um Vorreservierung.
LOCATION:Schliersee/Neuhaus - Markus Wasmeier Museum
URL:https://www.schnitzers-dahoam.de/de/hotel/eventkalender/detail.date.3
 09-55263.2026-12-05.html
END:VEVENT
BEGIN:VEVENT
UID:130800345669e7f4b66ca8c5.23707314
DTSTAMP:20260421T220542Z
DTSTART:20261206T100000Z
DTEND:20261206T180000Z
SUMMARY:Wasmeiers Weihnachtsmarkt
DESCRIPTION:Der historische Weihnachtsmarkt im Markus Wasmeier Freilichtm
 useum gehört mittlerweile zu den schönsten Christkindlmärkten in Ober
 bayern.\nTauchen Sie an zwei Wochenenden (5.-6. Dezember & 12.-13. Deze
 mber 2026) in den Winterzauber des weihnachtlich geschmückten Dorfes e
 in und erleben Sie diese ganz besondere Atmosphäre in der Adventszeit.\
 nTraditionelle Handwerker und Aussteller zeigen ihr Können und das Muse
 umswirtshaus lädt zum Verweilen ein. Auch im weitläufigen Aussenbereic
 h werden Getränke\, Speisen und winterliche Schmankerl angeboten.\n\n\n
 Führung\nErleben Sie das altbayrische Dorf mit allen Sinnen und erfahre
 n Sie bei unserer Führung „Weihnachtsgschichtn“ vieles über die 
 Adventszeit\, die Bräuche und Traditionen. Ein ganz besonderes Erlebnis
  in der Weihnachtszeit für Groß & Klein.\n\n\nBitte reservieren Sie re
 chtzeitig für einen Platz im Wirtshaus oder für unsere Weihnachtsführ
 ung.\n\n\nEintrittspreis pro Person: 6\,00 Euro – Kinder und Jugendlic
 he bis 17 Jahre haben freien Eintritt.\n\n\nÖffnungszeiten Markt:\nSams
 tag und Sonntag von 11 Uhr bis 19 Uhr.\n\n\nÖffnungszeiten Wirtshaus:\n
 Samstag und Sonntag von 11 Uhr bis 22 Uhr.\nBitte reservieren Sie frühz
 eitig!\n\n\nOffene Führung „Weihnachtsgschichtn“:\n11:30 Uhr / 13:0
 0 Uhr / 14:30 Uhr / 16:00 Uhr / 17:30 Uhr\nKeine Garantie auf freie Plä
 tze – Keine Vorreservierung möglich / Ticketverkauf an der Kasse / Tr
 effpunkt am Maibaum\nWenn Sie eine exklusive Gruppen-Führung buchen mö
 chten\, bitten wir um Vorreservierung.
LOCATION:Schliersee/Neuhaus - Markus Wasmeier Museum
URL:https://www.schnitzers-dahoam.de/de/hotel/eventkalender/detail.date.3
 09-55263.2026-12-05.html
END:VEVENT
BEGIN:VEVENT
UID:126114971769e7f4b66cc6b3.02640188
DTSTAMP:20260421T220542Z
DTSTART:20261212T100000Z
DTEND:20261212T180000Z
SUMMARY:Wasmeiers Weihnachtsmarkt
DESCRIPTION:Der historische Weihnachtsmarkt im Markus Wasmeier Freilichtm
 useum gehört mittlerweile zu den schönsten Christkindlmärkten in Ober
 bayern.\nTauchen Sie an zwei Wochenenden (5.-6. Dezember & 12.-13. Deze
 mber 2026) in den Winterzauber des weihnachtlich geschmückten Dorfes e
 in und erleben Sie diese ganz besondere Atmosphäre in der Adventszeit.\
 nTraditionelle Handwerker und Aussteller zeigen ihr Können und das Muse
 umswirtshaus lädt zum Verweilen ein. Auch im weitläufigen Aussenbereic
 h werden Getränke\, Speisen und winterliche Schmankerl angeboten.\n\n\n
 Führung\nErleben Sie das altbayrische Dorf mit allen Sinnen und erfahre
 n Sie bei unserer Führung „Weihnachtsgschichtn“ vieles über die 
 Adventszeit\, die Bräuche und Traditionen. Ein ganz besonderes Erlebnis
  in der Weihnachtszeit für Groß & Klein.\n\n\nBitte reservieren Sie re
 chtzeitig für einen Platz im Wirtshaus oder für unsere Weihnachtsführ
 ung.\n\n\nEintrittspreis pro Person: 6\,00 Euro – Kinder und Jugendlic
 he bis 17 Jahre haben freien Eintritt.\n\n\nÖffnungszeiten Markt:\nSams
 tag und Sonntag von 11 Uhr bis 19 Uhr.\n\n\nÖffnungszeiten Wirtshaus:\n
 Samstag und Sonntag von 11 Uhr bis 22 Uhr.\nBitte reservieren Sie frühz
 eitig!\n\n\nOffene Führung „Weihnachtsgschichtn“:\n11:30 Uhr / 13:0
 0 Uhr / 14:30 Uhr / 16:00 Uhr / 17:30 Uhr\nKeine Garantie auf freie Plä
 tze – Keine Vorreservierung möglich / Ticketverkauf an der Kasse / Tr
 effpunkt am Maibaum\nWenn Sie eine exklusive Gruppen-Führung buchen mö
 chten\, bitten wir um Vorreservierung.
LOCATION:Schliersee/Neuhaus - Markus Wasmeier Museum
URL:https://www.schnitzers-dahoam.de/de/hotel/eventkalender/detail.date.3
 09-55263.2026-12-05.html
END:VEVENT
BEGIN:VEVENT
UID:144194824569e7f4b66ce411.49498533
DTSTAMP:20260421T220542Z
DTSTART:20261213T100000Z
DTEND:20261213T180000Z
SUMMARY:Wasmeiers Weihnachtsmarkt
DESCRIPTION:Der historische Weihnachtsmarkt im Markus Wasmeier Freilichtm
 useum gehört mittlerweile zu den schönsten Christkindlmärkten in Ober
 bayern.\nTauchen Sie an zwei Wochenenden (5.-6. Dezember & 12.-13. Deze
 mber 2026) in den Winterzauber des weihnachtlich geschmückten Dorfes e
 in und erleben Sie diese ganz besondere Atmosphäre in der Adventszeit.\
 nTraditionelle Handwerker und Aussteller zeigen ihr Können und das Muse
 umswirtshaus lädt zum Verweilen ein. Auch im weitläufigen Aussenbereic
 h werden Getränke\, Speisen und winterliche Schmankerl angeboten.\n\n\n
 Führung\nErleben Sie das altbayrische Dorf mit allen Sinnen und erfahre
 n Sie bei unserer Führung „Weihnachtsgschichtn“ vieles über die 
 Adventszeit\, die Bräuche und Traditionen. Ein ganz besonderes Erlebnis
  in der Weihnachtszeit für Groß & Klein.\n\n\nBitte reservieren Sie re
 chtzeitig für einen Platz im Wirtshaus oder für unsere Weihnachtsführ
 ung.\n\n\nEintrittspreis pro Person: 6\,00 Euro – Kinder und Jugendlic
 he bis 17 Jahre haben freien Eintritt.\n\n\nÖffnungszeiten Markt:\nSams
 tag und Sonntag von 11 Uhr bis 19 Uhr.\n\n\nÖffnungszeiten Wirtshaus:\n
 Samstag und Sonntag von 11 Uhr bis 22 Uhr.\nBitte reservieren Sie frühz
 eitig!\n\n\nOffene Führung „Weihnachtsgschichtn“:\n11:30 Uhr / 13:0
 0 Uhr / 14:30 Uhr / 16:00 Uhr / 17:30 Uhr\nKeine Garantie auf freie Plä
 tze – Keine Vorreservierung möglich / Ticketverkauf an der Kasse / Tr
 effpunkt am Maibaum\nWenn Sie eine exklusive Gruppen-Führung buchen mö
 chten\, bitten wir um Vorreservierung.
LOCATION:Schliersee/Neuhaus - Markus Wasmeier Museum
URL:https://www.schnitzers-dahoam.de/de/hotel/eventkalender/detail.date.3
 09-55263.2026-12-05.html
END:VEVENT
END:VCALENDAR
